BEGIN:VCALENDAR
VERSION:2.0
PRODID:-//3nity.com//3nity CMS//EN
BEGIN:VEVENT
SUMMARY:Choose Life TV
UID:2026-07-18-1215452@deborahrossministries.com
SEQUENCE:0
STATUS:CONFIRMED
DTSTART:20261009T000000
DTEND:20261009T010000
DTSTAMP:20161222T120000
DESCRIPTION:Stations and Times
URL:http://deborahrossministries.com
END:VEVENT
END:VCALENDAR
